BEGIN:VCALENDAR
VERSION:2.0
PRODID:-//Vermont Symphony Orchestra - ECPv6.15.17.1//NONSGML v1.0//EN
CALSCALE:GREGORIAN
METHOD:PUBLISH
X-WR-CALNAME:Vermont Symphony Orchestra
X-ORIGINAL-URL:https://live-vso.pantheonsite.io
X-WR-CALDESC:Events for Vermont Symphony Orchestra
REFRESH-INTERVAL;VALUE=DURATION:PT1H
X-Robots-Tag:noindex
X-PUBLISHED-TTL:PT1H
BEGIN:VTIMEZONE
TZID:America/New_York
BEGIN:DAYLIGHT
TZOFFSETFROM:-0500
TZOFFSETTO:-0400
TZNAME:EDT
DTSTART:20220313T070000
END:DAYLIGHT
BEGIN:STANDARD
TZOFFSETFROM:-0400
TZOFFSETTO:-0500
TZNAME:EST
DTSTART:20221106T060000
END:STANDARD
BEGIN:DAYLIGHT
TZOFFSETFROM:-0500
TZOFFSETTO:-0400
TZNAME:EDT
DTSTART:20230312T070000
END:DAYLIGHT
BEGIN:STANDARD
TZOFFSETFROM:-0400
TZOFFSETTO:-0500
TZNAME:EST
DTSTART:20231105T060000
END:STANDARD
BEGIN:DAYLIGHT
TZOFFSETFROM:-0500
TZOFFSETTO:-0400
TZNAME:EDT
DTSTART:20240310T070000
END:DAYLIGHT
BEGIN:STANDARD
TZOFFSETFROM:-0400
TZOFFSETTO:-0500
TZNAME:EST
DTSTART:20241103T060000
END:STANDARD
END:VTIMEZONE
BEGIN:VEVENT
DTSTART;TZID=America/New_York:20230504T163000
DTEND;TZID=America/New_York:20230504T173000
DTSTAMP:20260422T102920
CREATED:20230405T160925Z
LAST-MODIFIED:20230502T132338Z
UID:10000112-1683217800-1683221400@live-vso.pantheonsite.io
SUMMARY:Bella Hristova Masterclass
DESCRIPTION:RESERVE TICKETS HERE \nJoin VSO guest violin soloist Bella Hristova to attend a free masterclass on Thursday\, May 4 at 4:30 p.m.\, where three young\, aspiring violin students from South Burlington\, Essex\, and Williston play and receive instruction on musical techniques and performance. Hristova will perform David Ludwig’s Saturn Bells and Bruch’s Scottish Fantasy with the Vermont Symphony Orchestra on May 6 at the Flynn in Burlington\, under the direction of conductor Jaime Laredo. This masterclass is presented in partnership with Lake Champlain Chamber Music Festival (lccmf.org)\, and takes place at the South Burlington Public Library Auditorium at 180 Market St. South Burlington. \nClick here to learn more. This event is free; advance registration via Eventbrite is required. \nThis educational event is generously sponsored by: \nM&T Bank\, Pat Robins and Lisa Schamberg\, the Doolittle Family Foundation\, the South Burlington Rotary Club and the George W. Mergens Foundation.
URL:https://live-vso.pantheonsite.io/vso-event/bella-hristova-masterclass/
LOCATION:South Burlington Public Library Auditorium\, 180 Market St.\, South Burlington\, VT\, United States
CATEGORIES:Education
ATTACH;FMTTYPE=image/png:https://live-vso.pantheonsite.io/wp-content/uploads/2023/04/Bella-Hristova-Masterclass-1.png
END:VEVENT
END:VCALENDAR