BEGIN:VCALENDAR
VERSION:2.0
PRODID:-//Vermont Symphony Orchestra - ECPv6.15.17.1//NONSGML v1.0//EN
CALSCALE:GREGORIAN
METHOD:PUBLISH
X-WR-CALNAME:Vermont Symphony Orchestra
X-ORIGINAL-URL:https://live-vso.pantheonsite.io
X-WR-CALDESC:Events for Vermont Symphony Orchestra
REFRESH-INTERVAL;VALUE=DURATION:PT1H
X-Robots-Tag:noindex
X-PUBLISHED-TTL:PT1H
BEGIN:VTIMEZONE
TZID:America/New_York
BEGIN:DAYLIGHT
TZOFFSETFROM:-0500
TZOFFSETTO:-0400
TZNAME:EDT
DTSTART:20220313T070000
END:DAYLIGHT
BEGIN:STANDARD
TZOFFSETFROM:-0400
TZOFFSETTO:-0500
TZNAME:EST
DTSTART:20221106T060000
END:STANDARD
BEGIN:DAYLIGHT
TZOFFSETFROM:-0500
TZOFFSETTO:-0400
TZNAME:EDT
DTSTART:20230312T070000
END:DAYLIGHT
BEGIN:STANDARD
TZOFFSETFROM:-0400
TZOFFSETTO:-0500
TZNAME:EST
DTSTART:20231105T060000
END:STANDARD
BEGIN:DAYLIGHT
TZOFFSETFROM:-0500
TZOFFSETTO:-0400
TZNAME:EDT
DTSTART:20240310T070000
END:DAYLIGHT
BEGIN:STANDARD
TZOFFSETFROM:-0400
TZOFFSETTO:-0500
TZNAME:EST
DTSTART:20241103T060000
END:STANDARD
END:VTIMEZONE
BEGIN:VEVENT
DTSTART;TZID=America/New_York:20230701T193000
DTEND;TZID=America/New_York:20230701T213000
DTSTAMP:20260422T100530
CREATED:20230331T203924Z
LAST-MODIFIED:20230701T143103Z
UID:10000178-1688239800-1688247000@live-vso.pantheonsite.io
SUMMARY:2023 TD Bank Summer Festival Tour in East Burke
DESCRIPTION:TONIGHT’S CONCERT IS OUTDOORS.\nTickets will be available for purchase at the gate. We will see you there! \n  \nVSO’s TD Bank Summer Festival Tour is back with a lineup of American favorites to get you dancing and celebrating the most anticipated time of year in Vermont. Guest trumpeter and jazz legend Ray Vega joins the Vermont Symphony Orchestra and Argentinian/Italian conductor Michelle di Russo in a concert of swing\, jazz\, spirituals\, and marches. A “…hornman with deep roots in Latin Music and Afro-Cuban Jazz” (New York Daily News)\, Vega is known as a prolific\, state-wide performer and as host of Vermont Public’s Friday Night Jazz program. Relax under the balmy summer skies with feisty\, soothing\, and unforgettable music by Duke Ellington\, Louis Armstrong\, Thelonious Monk\, George Gershwin\, John Philip Sousa\, Johnny Mandel and more. Bring your picnic baskets and summer spirit. \nFireworks will follow the conclusion of the performance!\n \n \nEVENT DETAILS & THINGS TO KNOW\nBurke Mountain Ski Resort\n2559 Mountain Rd\, East Burke\, VT 05832\nGates open at 5:30 pm for picnicking\nConcert begins at 7:30 pm\n \nAdvance adult tickets: $28\nGate Prices:\nAdults: $35\nAges 6-17: $5\n5 and under: Free \nAARP discounted tickets are available for AARP members and their guests only. \nPlease note: Outside alcohol is not permitted at this event. There will be beverages available for sale on site.  \nRain site: Lyndon Institute 168 Institute Circle\, Lyndon Center\, VT \nWe encourage you to bring:\n– A picnic blanket or folding chairs\n– Sunscreen & sunglasses\n– Insect repellant\n– Water\n– Whatever you need to comfortably enjoy the outdoors \nSun umbrellas are welcome until the start of the concert. Flashlights are also suggested to help you find your way to your car after the sun has set. Smoking and animals (except assistance and service animals) are not allowed at any VSO show. \n  \nPROGRAM\n\nGuest conductor Michelle Di Russo\, trumpet soloist\, Ray Vega \nBernstein – Overture to Candide\nSeeger – Rissolty Rossolty\nMonk arr. Julien – Round Midnight\nJoplin – The Entertainer\nArmstrong – Satchmo!\nSuessdorf\, arr. Fredrickson – Moonlight in Vermont\nMandel\, arr. McCarthy – Medley: The Shadow of Your Smile/A Time for Love\nEllington\, arr. Custer – Duke Ellington! \nINTERMISSION \nGershwin – Cuban Overture\nHernandez\, arr. Hartigan – Lamento Borincano\nBurleigh\, arr. Tyzik – Every Time I Feel the Spirit\nEllington\, arr. Vega – Black and Tan Fantasy\nGershwin – Strike Up the Band\nSousa – The Washington Post\nSousa – Stars and Stripes Forever \n  \nThis concert is generously sponsored by: \n           \n        \nThe Musical Petting Zoo educational exhibit for this performance is kindly supported by:\n\n \n For accessibility information at this venue\, please contact Burke Mountain Ski Resort at (802) 626-7400.
URL:https://live-vso.pantheonsite.io/vso-event/2023-summer-festival-tour-east-burke/
LOCATION:Burke Mountain Ski Resort\, 2559 Mountain Road\, East Burke\, VT\, 05832\, United States
CATEGORIES:Summer Festival Tour
ATTACH;FMTTYPE=image/png:https://live-vso.pantheonsite.io/wp-content/uploads/2023/03/TD-bank-Burke-SFT-1.png
END:VEVENT
BEGIN:VEVENT
DTSTART;TZID=America/New_York:20230730T100000
DTEND;TZID=America/New_York:20230730T110000
DTSTAMP:20260422T100530
CREATED:20230606T190016Z
LAST-MODIFIED:20230624T122834Z
UID:10000125-1690711200-1690714800@live-vso.pantheonsite.io
SUMMARY:Free Summer Trio and Quartet Concert Series
DESCRIPTION:VSO quartets and trios are bringing music to Burlington and Island Pond this summer\, with this series of free weekend concerts featuring everything from Bartok and Borodin to Scott Joplin rags\, Nordic and Celtic folk traditions\, Haydn\, Puccini\, and more. No need to reserve your place\, just join us! \nThe July 30th performance will feature the Mansfield Trio (Melissa Mielens\, flute; Brooke Quiggins-Saulnier violin; John Dunlop\, cello). \nThe concert is at 10:00 a.m. and is free. \nBCA Patio\, Burlington City Park\n1388 Main St.\, Burlington\, VT
URL:https://live-vso.pantheonsite.io/vso-event/free-summer-trio-and-quartet-concert-series/
LOCATION:BCA Patio\, City Hall Park\, 1388 Main St\, Burlington\, VT\, 05401\, United States
CATEGORIES:Free Concert Series
ATTACH;FMTTYPE=image/png:https://live-vso.pantheonsite.io/wp-content/uploads/2023/06/Free-Summer-Trio-Quartet-Concert-Series.png
END:VEVENT
END:VCALENDAR