BEGIN:VCALENDAR
VERSION:2.0
PRODID:-//Vermont Symphony Orchestra - ECPv6.15.17.1//NONSGML v1.0//EN
CALSCALE:GREGORIAN
METHOD:PUBLISH
X-WR-CALNAME:Vermont Symphony Orchestra
X-ORIGINAL-URL:https://live-vso.pantheonsite.io
X-WR-CALDESC:Events for Vermont Symphony Orchestra
REFRESH-INTERVAL;VALUE=DURATION:PT1H
X-Robots-Tag:noindex
X-PUBLISHED-TTL:PT1H
BEGIN:VTIMEZONE
TZID:America/New_York
BEGIN:DAYLIGHT
TZOFFSETFROM:-0500
TZOFFSETTO:-0400
TZNAME:EDT
DTSTART:20230312T070000
END:DAYLIGHT
BEGIN:STANDARD
TZOFFSETFROM:-0400
TZOFFSETTO:-0500
TZNAME:EST
DTSTART:20231105T060000
END:STANDARD
BEGIN:DAYLIGHT
TZOFFSETFROM:-0500
TZOFFSETTO:-0400
TZNAME:EDT
DTSTART:20240310T070000
END:DAYLIGHT
BEGIN:STANDARD
TZOFFSETFROM:-0400
TZOFFSETTO:-0500
TZNAME:EST
DTSTART:20241103T060000
END:STANDARD
BEGIN:DAYLIGHT
TZOFFSETFROM:-0500
TZOFFSETTO:-0400
TZNAME:EDT
DTSTART:20250309T070000
END:DAYLIGHT
BEGIN:STANDARD
TZOFFSETFROM:-0400
TZOFFSETTO:-0500
TZNAME:EST
DTSTART:20251102T060000
END:STANDARD
END:VTIMEZONE
BEGIN:VEVENT
DTSTART;TZID=America/New_York:20240214T193000
DTEND;TZID=America/New_York:20240214T210000
DTSTAMP:20260420T070141
CREATED:20230506T232005Z
LAST-MODIFIED:20240130T162313Z
UID:10000179-1707939000-1707944400@live-vso.pantheonsite.io
SUMMARY:David M. Wilson Memorial Farmers' Night Concert
DESCRIPTION:Ticketing/registration is not required for this open-to-the-public performance. \n\n\nThe VSO is one of many Vermont arts organizations that celebrates our state by providing a free concert for the Vermont General Assembly’s annual Farmers Night series. The series is a longstanding State House tradition dating back over 100 years to a time when lawmakers entertained themselves in the House Chamber mid-week while away from home. \nVSO’s offering for this free 2024 Valentine’s Day concert features a string chamber orchestra and the VSO Chorus for an evening of enchanting music by Bach\, Haydn\, and more. As an annual tradition\, we’ll also feature the premiere of a new work composed by a Music-COMP student: Callum Robechek. This concert is conducted by José-Daniel Flores Caraballo. \nProgram \nW. A. MOZART  – “Eine Kleine Nachtmusik\,” Mvt. 1 (Serenade No.13 for Strings in G Major)\nW. A. MOZART – “Ave Verum Corpus”\nJ. S. BACH – “Air” from String Suite III\nJ. S. BACH – Jesu Joy of Man’s Desiring\nJOSEPH HAYDN – Serenade for Strings Op.3 No.5\nJOSEPH HAYDN – “Credo” from Missa Santi Joanni de Deo\nGABRIEL FAURÉ – Nocturne from Shylock Suite Op. 57\nGABRIEL FAURÉ – Cantique de Jean Racine\nCALLUM ROBECHEK – Water Buries\, Too (Premiere)\nOLA GJEILO – Sacred Heart (Ubi Caritas III)\nDIANE MARTIN – “These Green Mountains” arr. Nat Lew \n  \nThis concert is kindly supported by the David M. Wilson Memorial Fund and the Robert De Cormier Fund\, with additional sponsorship from the State of Vermont and : \n             \n \n                         \n \n\nThe student composition premiere is in partnership with:
URL:https://live-vso.pantheonsite.io/vso-event/david-m-wilson-memorial-farmers-night-concert/
LOCATION:Vermont State House\, 115 State. St.\, Montpelier\, 05602\, United States
CATEGORIES:Farmers Night
ATTACH;FMTTYPE=image/jpeg:https://live-vso.pantheonsite.io/wp-content/uploads/2023/05/VSO-Tile-FarmersNight.jpg
END:VEVENT
END:VCALENDAR