BEGIN:VCALENDAR
VERSION:2.0
PRODID:-//Vermont Symphony Orchestra - ECPv6.15.17.1//NONSGML v1.0//EN
CALSCALE:GREGORIAN
METHOD:PUBLISH
X-WR-CALNAME:Vermont Symphony Orchestra
X-ORIGINAL-URL:https://live-vso.pantheonsite.io
X-WR-CALDESC:Events for Vermont Symphony Orchestra
REFRESH-INTERVAL;VALUE=DURATION:PT1H
X-Robots-Tag:noindex
X-PUBLISHED-TTL:PT1H
BEGIN:VTIMEZONE
TZID:America/New_York
BEGIN:DAYLIGHT
TZOFFSETFROM:-0500
TZOFFSETTO:-0400
TZNAME:EDT
DTSTART:20210314T070000
END:DAYLIGHT
BEGIN:STANDARD
TZOFFSETFROM:-0400
TZOFFSETTO:-0500
TZNAME:EST
DTSTART:20211107T060000
END:STANDARD
BEGIN:DAYLIGHT
TZOFFSETFROM:-0500
TZOFFSETTO:-0400
TZNAME:EDT
DTSTART:20220313T070000
END:DAYLIGHT
BEGIN:STANDARD
TZOFFSETFROM:-0400
TZOFFSETTO:-0500
TZNAME:EST
DTSTART:20221106T060000
END:STANDARD
BEGIN:DAYLIGHT
TZOFFSETFROM:-0500
TZOFFSETTO:-0400
TZNAME:EDT
DTSTART:20230312T070000
END:DAYLIGHT
BEGIN:STANDARD
TZOFFSETFROM:-0400
TZOFFSETTO:-0500
TZNAME:EST
DTSTART:20231105T060000
END:STANDARD
END:VTIMEZONE
BEGIN:VEVENT
DTSTART;VALUE=DATE:20221109
DTEND;VALUE=DATE:20221110
DTSTAMP:20260421T010431
CREATED:20221025T131023Z
LAST-MODIFIED:20221025T131023Z
UID:10000163-1667952000-1668038399@live-vso.pantheonsite.io
SUMMARY:Musicians-in-Schools\, Swanton
DESCRIPTION:This event is not open to the public.
URL:https://live-vso.pantheonsite.io/vso-event/musicians-in-schools-swanton/
LOCATION:VT
CATEGORIES:Education
END:VEVENT
BEGIN:VEVENT
DTSTART;VALUE=DATE:20221116
DTEND;VALUE=DATE:20221117
DTSTAMP:20260421T010431
CREATED:20221025T131500Z
LAST-MODIFIED:20221025T131500Z
UID:10000167-1668556800-1668643199@live-vso.pantheonsite.io
SUMMARY:Musicians-in-Schools\, Guilford
DESCRIPTION:This event is not open to the public.
URL:https://live-vso.pantheonsite.io/vso-event/musicians-in-schools-guilford/
LOCATION:VT
CATEGORIES:Education
END:VEVENT
BEGIN:VEVENT
DTSTART;VALUE=DATE:20221116
DTEND;VALUE=DATE:20221117
DTSTAMP:20260421T010431
CREATED:20221025T131544Z
LAST-MODIFIED:20221025T131544Z
UID:10000168-1668556800-1668643199@live-vso.pantheonsite.io
SUMMARY:Musicians-in-Schools\, Brattleboro
DESCRIPTION:This event is not open to the public.
URL:https://live-vso.pantheonsite.io/vso-event/musicians-in-schools-brattleboro/
LOCATION:VT
CATEGORIES:Education
END:VEVENT
BEGIN:VEVENT
DTSTART;VALUE=DATE:20221116
DTEND;VALUE=DATE:20221117
DTSTAMP:20260421T010431
CREATED:20221025T131624Z
LAST-MODIFIED:20221025T131624Z
UID:10000169-1668556800-1668643199@live-vso.pantheonsite.io
SUMMARY:Musicians-in-Schools\, Putney
DESCRIPTION:This event is not open to the public.
URL:https://live-vso.pantheonsite.io/vso-event/musicians-in-schools-putney/
LOCATION:VT
CATEGORIES:Education
END:VEVENT
END:VCALENDAR