BEGIN:VCALENDAR
VERSION:2.0
PRODID:-//Vermont Symphony Orchestra - ECPv6.15.17.1//NONSGML v1.0//EN
CALSCALE:GREGORIAN
METHOD:PUBLISH
X-WR-CALNAME:Vermont Symphony Orchestra
X-ORIGINAL-URL:https://live-vso.pantheonsite.io
X-WR-CALDESC:Events for Vermont Symphony Orchestra
REFRESH-INTERVAL;VALUE=DURATION:PT1H
X-Robots-Tag:noindex
X-PUBLISHED-TTL:PT1H
BEGIN:VTIMEZONE
TZID:America/New_York
BEGIN:DAYLIGHT
TZOFFSETFROM:-0500
TZOFFSETTO:-0400
TZNAME:EDT
DTSTART:20220313T070000
END:DAYLIGHT
BEGIN:STANDARD
TZOFFSETFROM:-0400
TZOFFSETTO:-0500
TZNAME:EST
DTSTART:20221106T060000
END:STANDARD
BEGIN:DAYLIGHT
TZOFFSETFROM:-0500
TZOFFSETTO:-0400
TZNAME:EDT
DTSTART:20230312T070000
END:DAYLIGHT
BEGIN:STANDARD
TZOFFSETFROM:-0400
TZOFFSETTO:-0500
TZNAME:EST
DTSTART:20231105T060000
END:STANDARD
BEGIN:DAYLIGHT
TZOFFSETFROM:-0500
TZOFFSETTO:-0400
TZNAME:EDT
DTSTART:20240310T070000
END:DAYLIGHT
BEGIN:STANDARD
TZOFFSETFROM:-0400
TZOFFSETTO:-0500
TZNAME:EST
DTSTART:20241103T060000
END:STANDARD
END:VTIMEZONE
BEGIN:VEVENT
DTSTART;TZID=America/New_York:20230202T133000
DTEND;TZID=America/New_York:20230202T150000
DTSTAMP:20260420T204813
CREATED:20221025T131323Z
LAST-MODIFIED:20230131T142325Z
UID:10000166-1675344600-1675350000@live-vso.pantheonsite.io
SUMMARY:Strings Workshop
DESCRIPTION:Educational electric strings workshop with Matt LaRocca and Tracy Silverman. \nContact VSO Education Coordinator Hannah Hansen at hannah@vso.org for questions about this event.
URL:https://live-vso.pantheonsite.io/vso-event/strings-workshop/
LOCATION:U-32 School\, 930 Gallison Hill Rd\, Montpelier\, VT\, 05602\, United States
CATEGORIES:Education
END:VEVENT
BEGIN:VEVENT
DTSTART;TZID=America/New_York:20230217T190000
DTEND;TZID=America/New_York:20230217T200000
DTSTAMP:20260420T204814
CREATED:20230207T154141Z
LAST-MODIFIED:20230209T144515Z
UID:10000172-1676660400-1676664000@live-vso.pantheonsite.io
SUMMARY:Young Composers
DESCRIPTION:VSO musicians perform final drafts of student compositions written for brass quintet. Students have been coached by Vermont composer Kyle Saulnier.  This concert is the conclusion of VSO’s Young Composers residency at Bellows Falls Union High School\, in collaboration with Music-COMP\, and hosted by BFUHS music teacher Nick Pelton. \nThis concert is free and open to the public\, no tickets required\, at Bellows Falls Union High School.
URL:https://live-vso.pantheonsite.io/vso-event/young-composers/
LOCATION:Bellows Falls Union High School\, 406 High School Rd\, Westminster\, VT\, 05158\, United States
CATEGORIES:Education
END:VEVENT
END:VCALENDAR