BEGIN:VCALENDAR
VERSION:2.0
PRODID:-//Vermont Symphony Orchestra - ECPv6.15.17.1//NONSGML v1.0//EN
CALSCALE:GREGORIAN
METHOD:PUBLISH
X-WR-CALNAME:Vermont Symphony Orchestra
X-ORIGINAL-URL:https://live-vso.pantheonsite.io
X-WR-CALDESC:Events for Vermont Symphony Orchestra
REFRESH-INTERVAL;VALUE=DURATION:PT1H
X-Robots-Tag:noindex
X-PUBLISHED-TTL:PT1H
BEGIN:VTIMEZONE
TZID:America/New_York
BEGIN:DAYLIGHT
TZOFFSETFROM:-0500
TZOFFSETTO:-0400
TZNAME:EDT
DTSTART:20220313T070000
END:DAYLIGHT
BEGIN:STANDARD
TZOFFSETFROM:-0400
TZOFFSETTO:-0500
TZNAME:EST
DTSTART:20221106T060000
END:STANDARD
BEGIN:DAYLIGHT
TZOFFSETFROM:-0500
TZOFFSETTO:-0400
TZNAME:EDT
DTSTART:20230312T070000
END:DAYLIGHT
BEGIN:STANDARD
TZOFFSETFROM:-0400
TZOFFSETTO:-0500
TZNAME:EST
DTSTART:20231105T060000
END:STANDARD
BEGIN:DAYLIGHT
TZOFFSETFROM:-0500
TZOFFSETTO:-0400
TZNAME:EDT
DTSTART:20240310T070000
END:DAYLIGHT
BEGIN:STANDARD
TZOFFSETFROM:-0400
TZOFFSETTO:-0500
TZNAME:EST
DTSTART:20241103T060000
END:STANDARD
END:VTIMEZONE
BEGIN:VEVENT
DTSTART;TZID=America/New_York:20230201T193000
DTEND;TZID=America/New_York:20230201T213000
DTSTAMP:20260419T094009
CREATED:20221006T153617Z
LAST-MODIFIED:20230123T213931Z
UID:10000155-1675279800-1675287000@live-vso.pantheonsite.io
SUMMARY:David M. Wilson Memorial Farmers Night Concert at the State House
DESCRIPTION:This annual\, free favorite at the State House returns after three years’ absence due to the pandemic. The 2023 David. M Wilson Memorial Farmers’ Night Concert is conducted by Director of Orchestra and Associate Professor of Music at the University of Vermont\, Dr. Yutaka Kono. Music includes Rossini’s La Scala di Seta Overture\, Francis Johnson’s Cotillions\, Lauren Bernofsky’s Abendstern\, Haydn’s Symphony No. 8\, “Le Soir” and a piece by West Rutland High School graduate Drew Frankenberg via Music-COMP. \nTicketing/registration is not required for this open-to-the-public performance. \nThis concert is made possible through funding support from the David M Wilson Memorial Fund\, and the State of Vermont.
URL:https://live-vso.pantheonsite.io/vso-event/david-m-wilson-memorial-farmers-night-concert-at-the-state-house/
LOCATION:House Chambers\, The State House\, 115 State St\, Montpelier\, VT\, 05633\, United States
CATEGORIES:Farmers Night
ATTACH;FMTTYPE=image/png:https://live-vso.pantheonsite.io/wp-content/uploads/2022/03/FARMERS-NIGHT.png
END:VEVENT
END:VCALENDAR