BEGIN:VCALENDAR
VERSION:2.0
PRODID:-//Vermont Symphony Orchestra - ECPv6.15.17.1//NONSGML v1.0//EN
CALSCALE:GREGORIAN
METHOD:PUBLISH
X-ORIGINAL-URL:https://live-vso.pantheonsite.io
X-WR-CALDESC:Events for Vermont Symphony Orchestra
REFRESH-INTERVAL;VALUE=DURATION:PT1H
X-Robots-Tag:noindex
X-PUBLISHED-TTL:PT1H
BEGIN:VTIMEZONE
TZID:America/New_York
BEGIN:DAYLIGHT
TZOFFSETFROM:-0500
TZOFFSETTO:-0400
TZNAME:EDT
DTSTART:20230312T070000
END:DAYLIGHT
BEGIN:STANDARD
TZOFFSETFROM:-0400
TZOFFSETTO:-0500
TZNAME:EST
DTSTART:20231105T060000
END:STANDARD
BEGIN:DAYLIGHT
TZOFFSETFROM:-0500
TZOFFSETTO:-0400
TZNAME:EDT
DTSTART:20240310T070000
END:DAYLIGHT
BEGIN:STANDARD
TZOFFSETFROM:-0400
TZOFFSETTO:-0500
TZNAME:EST
DTSTART:20241103T060000
END:STANDARD
BEGIN:DAYLIGHT
TZOFFSETFROM:-0500
TZOFFSETTO:-0400
TZNAME:EDT
DTSTART:20250309T070000
END:DAYLIGHT
BEGIN:STANDARD
TZOFFSETFROM:-0400
TZOFFSETTO:-0500
TZNAME:EST
DTSTART:20251102T060000
END:STANDARD
END:VTIMEZONE
BEGIN:VEVENT
DTSTART;TZID=America/New_York:20240703T193000
DTEND;TZID=America/New_York:20240703T213000
DTSTAMP:20260419T220911
CREATED:20240413T200547Z
LAST-MODIFIED:20240703T121819Z
UID:10000135-1720035000-1720042200@live-vso.pantheonsite.io
SUMMARY:Summer Festival Tour: Symphony of Stars - Grafton
DESCRIPTION:Tonight’s concert will be OUTDOORS. Tickets will go on sale at the gate at 5:30. There is also a limited number of advance price tickets available at MKT Grafton in downtown Grafton until they sell out of their stock. \nCelebrate the great outdoors and VSO’s 90th birthday with fireworks and the 2024 Summer Festival Tour: Symphony of Stars! Join the orchestra for spectacular evenings of music by Sufjan Stevens\, Margaret Bonds\, Vermont’s own Erik Nielsen\, John Philip Sousa marches\, John Williams’ E.T. score and more – plus spectacular solos from VSO’s musicians! Music Director Andrew Crust leads the ensemble featuring Principal Cello John Dunlop\, Principal Clarinet Kelli O’Connor\, and Principal Percussion D. Thomas Toner. Bring your picnic and relax under balmy summer skies with your Vermont Symphony Orchestra\, with fireworks after the concert. \nEVENT DETAILS & THINGS TO KNOW\nGrafton Trails and Outdoor Center\n783 Townshend Road\, Grafton\nFor accessibility information at this venue\, please contact Grace Spain at the VSO at (802) 864-5741 ext. 110 \nGates open at 5:30 pm for picnicking\nConcert begins at 7:30 pm followed by fireworks \nAdvance Ticket Prices:\nAdults: $28\nAges 6-17: $5\n5 and under: Free \nGate Prices:\nAdults: $35\nAges 6-17: $5\n5 and under: Free \nRain site:  Horowitz Hall at Vermont Academy\, 10 Long Walk\, Saxtons River\, VT 05154 \nWe encourage you to bring:\n– A picnic blanket or folding chairs\n– Sunscreen & sunglasses\n– Insect repellant\n– Water\n– Whatever you need to comfortably enjoy the outdoors \nSun umbrellas are welcome until the start of the concert. Flashlights are also suggested to help you find your way to your car after the sun has set. Smoking and animals (except assistance and service animals) are not allowed at any VSO show. \n  \nPROGRAM\nAndrew Crust\, conductor \nFrancis Scott Key – The Star-Spangled Banner\nJim Stephenson – Fanfare for Democracy\nGeorge Green\, arr. Cahn – Xylophonia (Dr. D. Thomas Toner\, solo xylophone)\nSufjan Stevens\, arr. Atkinson – Suite from “Run Rabbit\, Run”\, Movements I\, II\, and IV\nGabriel Fauré – Élégie for Cello and Orchestra (John Dunlop\, solo cello)\nJohn Williams – ET: Adventures on Earth \nINTERMISSION \nErik Nielsen – Matt’s Tune\, ballad for orchestra\nFrank Ticheli – Concerto for Clarinet and Orchestra\, Movement III (Kelli O’Connor\, solo clarinet)\nMargaret Bonds – Montgomery Variations\, Movements I\, III\, and VII\nMorton Gould – American Salute\nJohn Philip Sousa – Stars and Stripes Forever \n  \nThis concert is made possible with generous support from The Windham Foundation\, and the following sponsors and partners: \n      \n     
URL:https://live-vso.pantheonsite.io/vso-event/summer-festival-tour-symphony-of-stars-grafton/
CATEGORIES:Summer Festival Tour
ATTACH;FMTTYPE=image/png:https://live-vso.pantheonsite.io/wp-content/uploads/2024/04/1920-x-1080-Banner.png
END:VEVENT
END:VCALENDAR