BEGIN:VCALENDAR
VERSION:2.0
PRODID:-//Vermont Symphony Orchestra - ECPv6.15.17.1//NONSGML v1.0//EN
CALSCALE:GREGORIAN
METHOD:PUBLISH
X-WR-CALNAME:Vermont Symphony Orchestra
X-ORIGINAL-URL:https://live-vso.pantheonsite.io
X-WR-CALDESC:Events for Vermont Symphony Orchestra
REFRESH-INTERVAL;VALUE=DURATION:PT1H
X-Robots-Tag:noindex
X-PUBLISHED-TTL:PT1H
BEGIN:VTIMEZONE
TZID:America/New_York
BEGIN:DAYLIGHT
TZOFFSETFROM:-0500
TZOFFSETTO:-0400
TZNAME:EDT
DTSTART:20230312T070000
END:DAYLIGHT
BEGIN:STANDARD
TZOFFSETFROM:-0400
TZOFFSETTO:-0500
TZNAME:EST
DTSTART:20231105T060000
END:STANDARD
BEGIN:DAYLIGHT
TZOFFSETFROM:-0500
TZOFFSETTO:-0400
TZNAME:EDT
DTSTART:20240310T070000
END:DAYLIGHT
BEGIN:STANDARD
TZOFFSETFROM:-0400
TZOFFSETTO:-0500
TZNAME:EST
DTSTART:20241103T060000
END:STANDARD
BEGIN:DAYLIGHT
TZOFFSETFROM:-0500
TZOFFSETTO:-0400
TZNAME:EDT
DTSTART:20250309T070000
END:DAYLIGHT
BEGIN:STANDARD
TZOFFSETFROM:-0400
TZOFFSETTO:-0500
TZNAME:EST
DTSTART:20251102T060000
END:STANDARD
END:VTIMEZONE
BEGIN:VEVENT
DTSTART;TZID=America/New_York:20240705T183000
DTEND;TZID=America/New_York:20240705T203000
DTSTAMP:20260419T221531
CREATED:20240413T200621Z
LAST-MODIFIED:20240705T201837Z
UID:10000131-1720204200-1720211400@live-vso.pantheonsite.io
SUMMARY:Summer Festival Tour: Symphony of Stars - South Pomfret
DESCRIPTION:Tonight’s concert will be outdoors! There is a chance of scattered showers so we recommend bringing rain apparel if you prefer. \n  \nCelebrate the great outdoors and VSO’s 90th birthday with the 2024 Summer Festival Tour: Symphony of Stars! Join the orchestra for spectacular evenings of music by Sufjan Stevens\, Margaret Bonds\, Vermont’s own Erik Nielsen\, John Philip Sousa marches\, John Williams’ E.T. score and more – plus spectacular solos from VSO’s musicians! Music Director Andrew Crust leads the ensemble featuring Principal Cello John Dunlop\, Principal Clarinet Kelli O’Connor\, and Principal Percussion D. Thomas Toner. Bring your picnic and relax under balmy summer skies with your Vermont Symphony Orchestra\, and enjoy fireworks just a short drive away in Woodstock beginning 45 minutes after the concert! \n  \nEVENT DETAILS & THINGS TO KNOW\nSaskadena Six Ski Area\n247 Stage Rd\, South Pomfret \nFor accessibility information at Saskadena Six Ski Area\, please contact Pentangle Arts at (802) 457-3981 \nGates open at 5:30 pm for picnicking\nConcert begins at 6:30 pm\nFireworks nearby in Woodstock at 9:15 pm \nAdvance Ticket Prices:\nAdults: $28\nAges 6-17: $5\n5 and under: Free \nGate Prices:\nAdults: $35\nAges 6-17: $5\n5 and under: Free \nRain site: Woodstock Union High School\, 100 Amsden Way\, Woodstock\, VT \nWe encourage you to bring:\n– A picnic blanket or folding chairs\n– Sunscreen & sunglasses\n– Insect repellant\n– Water\n– Whatever you need to comfortably enjoy the outdoors \nSun umbrellas are welcome until the start of the concert. Flashlights are also suggested to help you find your way to your car after the sun has set. Smoking and animals (except assistance and service animals) are not allowed at any VSO show. \n  \nPROGRAM\nAndrew Crust\, conductor \nFrancis Scott Key – The Star-Spangled Banner\nJim Stephenson – Fanfare for Democracy\nGeorge Green\, arr. Cahn – Xylophonia (Dr. D. Thomas Toner\, solo xylophone)\nSufjan Stevens\, arr. Atkinson – Suite from “Run Rabbit\, Run”\, Movements I\, II\, and IV\nGabriel Fauré – Élégie for Cello and Orchestra (John Dunlop\, solo cello)\nJohn Williams – ET: Adventures on Earth \nINTERMISSION \nErik Nielsen – Matt’s Tune\, ballad for orchestra\nFrank Ticheli – Concerto for Clarinet and Orchestra\, Movement III (Kelli O’Connor\, solo clarinet)\nMargaret Bonds – Montgomery Variations\, Movements I\, III\, and VII\nMorton Gould – American Salute\nJohn Philip Sousa – Stars and Stripes Forever \n  \nThis concert is produced in partnership with Pentangle Arts and made possible with generous support from The Jack and Dorothy Byrne Foundation and:
URL:https://live-vso.pantheonsite.io/vso-event/summer-festival-tour-symphony-of-stars-south-pomfret/
CATEGORIES:Summer Festival Tour
ATTACH;FMTTYPE=image/png:https://live-vso.pantheonsite.io/wp-content/uploads/2024/04/1920-x-1080-Banner.png
END:VEVENT
END:VCALENDAR