BEGIN:VCALENDAR
VERSION:2.0
PRODID:-//Vermont Symphony Orchestra - ECPv6.15.17.1//NONSGML v1.0//EN
CALSCALE:GREGORIAN
METHOD:PUBLISH
X-WR-CALNAME:Vermont Symphony Orchestra
X-ORIGINAL-URL:https://live-vso.pantheonsite.io
X-WR-CALDESC:Events for Vermont Symphony Orchestra
REFRESH-INTERVAL;VALUE=DURATION:PT1H
X-Robots-Tag:noindex
X-PUBLISHED-TTL:PT1H
BEGIN:VTIMEZONE
TZID:America/New_York
BEGIN:DAYLIGHT
TZOFFSETFROM:-0500
TZOFFSETTO:-0400
TZNAME:EDT
DTSTART:20230312T070000
END:DAYLIGHT
BEGIN:STANDARD
TZOFFSETFROM:-0400
TZOFFSETTO:-0500
TZNAME:EST
DTSTART:20231105T060000
END:STANDARD
BEGIN:DAYLIGHT
TZOFFSETFROM:-0500
TZOFFSETTO:-0400
TZNAME:EDT
DTSTART:20240310T070000
END:DAYLIGHT
BEGIN:STANDARD
TZOFFSETFROM:-0400
TZOFFSETTO:-0500
TZNAME:EST
DTSTART:20241103T060000
END:STANDARD
BEGIN:DAYLIGHT
TZOFFSETFROM:-0500
TZOFFSETTO:-0400
TZNAME:EDT
DTSTART:20250309T070000
END:DAYLIGHT
BEGIN:STANDARD
TZOFFSETFROM:-0400
TZOFFSETTO:-0500
TZNAME:EST
DTSTART:20251102T060000
END:STANDARD
END:VTIMEZONE
BEGIN:VEVENT
DTSTART;TZID=America/New_York:20240706T193000
DTEND;TZID=America/New_York:20240706T213000
DTSTAMP:20260419T221500
CREATED:20240413T200741Z
LAST-MODIFIED:20240706T141030Z
UID:10000132-1720294200-1720301400@live-vso.pantheonsite.io
SUMMARY:Summer Festival Tour: Symphony of Stars - East Burke
DESCRIPTION:WEATHER UPDATE: For the safety of our crew\, musicians\, staff and audience\, tonight’s concert (July 6) will be moved indoors at Lyndon Town School Gymnasium\, 2591 Lily Pond Rd\, Lyndonville. A limited number of tickets will be available at the gate at 5:30; concert starts at 7:30. We hope to see you there! Note: We recommend bringing your own chairs. \nCelebrate the great outdoors and VSO’s 90th birthday with the 2024 Summer Festival Tour: Symphony of Stars! Join the orchestra for spectacular evenings of music by Sufjan Stevens\, Margaret Bonds\, Vermont’s own Erik Nielsen\, John Philip Sousa marches\, John Williams’ E.T. score and more – plus spectacular solos from VSO’s musicians! Music Director Andrew Crust leads the ensemble featuring Principal Cello John Dunlop\, Principal Clarinet Kelli O’Connor\, and Principal Percussion D. Thomas Toner. Bring your picnic and relax under balmy summer skies with your Vermont Symphony Orchestra! \n  \nEVENT DETAILS & THINGS TO KNOW\nBurke Mountain Ski Resort\n2559 Mountain Rd\, East Burke\, VT 05832\nFor accessibility information at Burke Mountain\, please contact (802) 626-7300 \nGates open at 5:30 pm for picnicking\nConcert begins at 7:30 pm with fireworks after the show (only if outdoors) \nAdvance Ticket Prices:\nAdults: $28\nAges 6-17: $5\n5 and under: Free \nGate Prices:\nAdults: $35\nAges 6-17: $5\n5 and under: Free \nRain site: Lyndon Town School Gymnasium\, 2591 Lily Pond Rd.\, Lyndonville\, VT 05851 \nWe encourage you to bring:\n– A picnic blanket or folding chairs\n– Sunscreen & sunglasses\n– Insect repellant\n– Water\n– Whatever you need to comfortably enjoy the outdoors \nPlease note: Outside alcohol is not permitted at this event. There will be beverages available for sale on site. \nSun umbrellas are welcome until the start of the concert. Flashlights are also suggested to help you find your way to your car after the sun has set. Smoking and animals (except assistance and service animals) are not allowed at any VSO show. \n  \nPROGRAM\nAndrew Crust\, conductor \nFrancis Scott Key – The Star-Spangled Banner\nJim Stephenson – Fanfare for Democracy\nGeorge Green\, arr. Cahn – Xylophonia (Dr. D. Thomas Toner\, solo xylophone)\nSufjan Stevens\, arr. Atkinson – Suite from “Run Rabbit\, Run”\, Movements I\, II\, and IV\nGabriel Fauré – Élégie for Cello and Orchestra (John Dunlop\, solo cello)\nJohn Williams – ET: Adventures on Earth \nINTERMISSION \nErik Nielsen – Matt’s Tune\, ballad for orchestra\nFrank Ticheli – Concerto for Clarinet and Orchestra\, Movement III (Kelli O’Connor\, solo clarinet)\nMargaret Bonds – Montgomery Variations\, Movements I\, III\, and VII\nMorton Gould – American Salute\nJohn Philip Sousa – Stars and Stripes Forever \n  \nThis concert is produced in partnership with Burke Mountain Resort made possible with generous support from:
URL:https://live-vso.pantheonsite.io/vso-event/summer-festival-tour-symphony-of-stars-east-burke/
CATEGORIES:Summer Festival Tour
ATTACH;FMTTYPE=image/png:https://live-vso.pantheonsite.io/wp-content/uploads/2024/04/1920-x-1080-Banner.png
END:VEVENT
END:VCALENDAR