BEGIN:VCALENDAR
VERSION:2.0
PRODID:-//Vermont Symphony Orchestra - ECPv6.15.17.1//NONSGML v1.0//EN
CALSCALE:GREGORIAN
METHOD:PUBLISH
X-ORIGINAL-URL:https://live-vso.pantheonsite.io
X-WR-CALDESC:Events for Vermont Symphony Orchestra
REFRESH-INTERVAL;VALUE=DURATION:PT1H
X-Robots-Tag:noindex
X-PUBLISHED-TTL:PT1H
BEGIN:VTIMEZONE
TZID:America/New_York
BEGIN:DAYLIGHT
TZOFFSETFROM:-0500
TZOFFSETTO:-0400
TZNAME:EDT
DTSTART:20230312T070000
END:DAYLIGHT
BEGIN:STANDARD
TZOFFSETFROM:-0400
TZOFFSETTO:-0500
TZNAME:EST
DTSTART:20231105T060000
END:STANDARD
BEGIN:DAYLIGHT
TZOFFSETFROM:-0500
TZOFFSETTO:-0400
TZNAME:EDT
DTSTART:20240310T070000
END:DAYLIGHT
BEGIN:STANDARD
TZOFFSETFROM:-0400
TZOFFSETTO:-0500
TZNAME:EST
DTSTART:20241103T060000
END:STANDARD
BEGIN:DAYLIGHT
TZOFFSETFROM:-0500
TZOFFSETTO:-0400
TZNAME:EDT
DTSTART:20250309T070000
END:DAYLIGHT
BEGIN:STANDARD
TZOFFSETFROM:-0400
TZOFFSETTO:-0500
TZNAME:EST
DTSTART:20251102T060000
END:STANDARD
END:VTIMEZONE
BEGIN:VEVENT
DTSTART;TZID=America/New_York:20240707T193000
DTEND;TZID=America/New_York:20240707T213000
DTSTAMP:20260419T221707
CREATED:20240414T212643Z
LAST-MODIFIED:20240707T121827Z
UID:10000133-1720380600-1720387800@live-vso.pantheonsite.io
SUMMARY:Summer Festival Tour: Symphony of Stars - Stowe
DESCRIPTION:Tonight’s concert will be outdoors\, and there will be tickets available for purchase at the gate beginning at 5:30 pm.  \nCelebrate the great outdoors and VSO’s 90th birthday with the 2024 Summer Festival Tour: Symphony of Stars! Join the orchestra for spectacular evenings of music by Sufjan Stevens\, Margaret Bonds\, Vermont’s own Erik Nielsen\, John Philip Sousa marches\, John Williams’ E.T. score and more – plus spectacular solos from VSO’s musicians! Music Director Andrew Crust leads the ensemble featuring Principal Cello John Dunlop\, Principal Clarinet Kelli O’Connor\, and Principal Percussion D. Thomas Toner. Bring your picnic and relax under balmy summer skies with your Vermont Symphony Orchestra! \n  \nEVENT DETAILS & THINGS TO KNOW\nTrapp Family Lodge Concert Meadow\n700 Trapp Hill Rd. Stowe\, VT \n*Tickets will be available starting Thursday\, April 25 \nGates open at 5:30 pm for picnicking\nConcert begins at 7:30 pm \nAdults: $35\nAges 6-17: $5\n5 and under: Free \nRain site: Stowe High School\, 413 Barrows Rd. Stowe\, VT \nWe encourage you to bring:\n– A picnic blanket or folding chairs\n– Sunscreen & sunglasses\n– Insect repellant\n– Water\n– Whatever you need to comfortably enjoy the outdoors \nSun umbrellas are welcome until the start of the concert. Flashlights are also suggested to help you find your way to your car after the sun has set. Smoking and animals (except assistance and service animals) are not allowed at any VSO show. \n  \nPROGRAM\nAndrew Crust\, conductor \nFrancis Scott Key – The Star-Spangled Banner\nJim Stephenson – Fanfare for Democracy\nGeorge Green\, arr. Cahn – Xylophonia (Dr. D. Thomas Toner\, solo xylophone)\nSufjan Stevens\, arr. Atkinson – Suite from “Run Rabbit\, Run”\, Movements I\, II\, and IV\nGabriel Fauré – Élégie for Cello and Orchestra (John Dunlop\, solo cello)\nJohn Williams – ET: Adventures on Earth \nINTERMISSION \nErik Nielsen – Matt’s Tune\, ballad for orchestra\nFrank Ticheli – Concerto for Clarinet and Orchestra\, Movement III (Kelli O’Connor\, solo clarinet)\nMargaret Bonds – Montgomery Variations\, Movements I\, III\, and VII\nMorton Gould – American Salute\nJohn Philip Sousa – Stars and Stripes Forever \n  \nFor accessibility information at Trapp Family Lodge Concert Meadow\, please contact (802) 826-7000 \nThis concert is made possible in partnership with Stowe Performing Arts and with support from:
URL:https://live-vso.pantheonsite.io/vso-event/summer-festival-tour-symphony-of-stars-stowe/
CATEGORIES:Summer Festival Tour
ATTACH;FMTTYPE=image/png:https://live-vso.pantheonsite.io/wp-content/uploads/2024/04/1920-x-1080-Banner.png
END:VEVENT
END:VCALENDAR