BEGIN:VCALENDAR
VERSION:2.0
PRODID:-//Vermont Symphony Orchestra - ECPv6.15.17.1//NONSGML v1.0//EN
CALSCALE:GREGORIAN
METHOD:PUBLISH
X-WR-CALNAME:Vermont Symphony Orchestra
X-ORIGINAL-URL:https://live-vso.pantheonsite.io
X-WR-CALDESC:Events for Vermont Symphony Orchestra
REFRESH-INTERVAL;VALUE=DURATION:PT1H
X-Robots-Tag:noindex
X-PUBLISHED-TTL:PT1H
BEGIN:VTIMEZONE
TZID:America/New_York
BEGIN:DAYLIGHT
TZOFFSETFROM:-0500
TZOFFSETTO:-0400
TZNAME:EDT
DTSTART:20230312T070000
END:DAYLIGHT
BEGIN:STANDARD
TZOFFSETFROM:-0400
TZOFFSETTO:-0500
TZNAME:EST
DTSTART:20231105T060000
END:STANDARD
BEGIN:DAYLIGHT
TZOFFSETFROM:-0500
TZOFFSETTO:-0400
TZNAME:EDT
DTSTART:20240310T070000
END:DAYLIGHT
BEGIN:STANDARD
TZOFFSETFROM:-0400
TZOFFSETTO:-0500
TZNAME:EST
DTSTART:20241103T060000
END:STANDARD
BEGIN:DAYLIGHT
TZOFFSETFROM:-0500
TZOFFSETTO:-0400
TZNAME:EDT
DTSTART:20250309T070000
END:DAYLIGHT
BEGIN:STANDARD
TZOFFSETFROM:-0400
TZOFFSETTO:-0500
TZNAME:EST
DTSTART:20251102T060000
END:STANDARD
END:VTIMEZONE
BEGIN:VEVENT
DTSTART;TZID=America/New_York:20240210T190000
DTEND;TZID=America/New_York:20240210T200000
DTSTAMP:20260421T213807
CREATED:20231017T143849Z
LAST-MODIFIED:20240109T144742Z
UID:10000197-1707591600-1707595200@live-vso.pantheonsite.io
SUMMARY:Jukebox: Hammer & Glass - Paramount
DESCRIPTION:Buy Tickets \nFor our February 2024 concerts\, we’re shaking things up and swapping two string players with two percussionists for a new\, whirlwind take on Jukebox – with the musicians and audience both onstage at the Paramount Theatre. Violinist Brooke Quiggins and cellist John Dunlop are joined by percussionists D. Thomas Toner and Nicola Cannizzaro for a singular musical experience\, curated by VSO Artistic Advisor and Project Conductor Matt LaRocca.  \nProgram \n\nOpening from Glassworks by Philip Glass\, arr. LaRocca \nHammers by Andy Akiho \nBoris Kerner by Caroline Shaw \nBawa (traditional) arr. Sowah Mensah \nDuo for Violin and Cello\, Mvmt. III by Jessie Montgomery \nManta Ray Dance by Yousif Sheronick \nSlide Rule by Jeanne Woodbury and Josh Gottry \nClosing from Glassworks by Philip Glass\, arr. LaRocca
URL:https://live-vso.pantheonsite.io/vso-event/jukebox-hammer-glass-paramount/
LOCATION:Paramount Theatre\, 30 Center St\, Rutland\, VT\, 05701\, United States
CATEGORIES:Jukebox
ATTACH;FMTTYPE=image/jpeg:https://live-vso.pantheonsite.io/wp-content/uploads/2023/10/VSO_JukeboxHammer_1920x1080.jpg
END:VEVENT
BEGIN:VEVENT
DTSTART;TZID=America/New_York:20240211T170000
DTEND;TZID=America/New_York:20240211T180000
DTSTAMP:20260421T213807
CREATED:20231017T144018Z
LAST-MODIFIED:20240208T140410Z
UID:10000198-1707670800-1707674400@live-vso.pantheonsite.io
SUMMARY:Jukebox: Hammer & Glass - Zenbarn
DESCRIPTION:Buy Tickets \nFor our February 2024 concerts\, we’re shaking things up and swapping two string players with two percussionists for a new\, whirlwind take on Jukebox. Violinist Brooke Quiggins and cellist John Dunlop are joined by percussionists D. Thomas Toner and Nicola Cannizzaro for a singular musical experience\, curated by VSO Artistic Advisor and Project Conductor Matt LaRocca. \nProgram \n\nOpening from Glassworks by Philip Glass\, arr. LaRocca \nHammers by Andy Akiho \nBoris Kerner by Caroline Shaw \nBawa (traditional) arr. Sowah Mensah \nDuo for Violin and Cello\, Mvmt. III by Jessie Montgomery \nManta Ray Dance by Yousif Sheronick \nSlide Rule by Jeanne Woodbury and Josh Gottry \nClosing from Glassworks by Philip Glass\, arr. LaRocca \n\nDoors open at 4:30pm\, the show begins at 5pm. \n  \nThis concert is generously sponsored by the Northfield Savings Bank Innovation Fund.
URL:https://live-vso.pantheonsite.io/vso-event/jukebox-hammer-glass-zenbarn/
LOCATION:Zenbarn\, 179 Guptil Rd\, Waterbury\, VT\, 05677\, United States
CATEGORIES:Jukebox
ATTACH;FMTTYPE=image/jpeg:https://live-vso.pantheonsite.io/wp-content/uploads/2023/10/VSO_JukeboxHammer_1920x1080.jpg
END:VEVENT
END:VCALENDAR