BEGIN:VCALENDAR
VERSION:2.0
PRODID:-//Vermont Symphony Orchestra - ECPv6.15.17.1//NONSGML v1.0//EN
CALSCALE:GREGORIAN
METHOD:PUBLISH
X-ORIGINAL-URL:https://live-vso.pantheonsite.io
X-WR-CALDESC:Events for Vermont Symphony Orchestra
REFRESH-INTERVAL;VALUE=DURATION:PT1H
X-Robots-Tag:noindex
X-PUBLISHED-TTL:PT1H
BEGIN:VTIMEZONE
TZID:America/New_York
BEGIN:DAYLIGHT
TZOFFSETFROM:-0500
TZOFFSETTO:-0400
TZNAME:EDT
DTSTART:20220313T070000
END:DAYLIGHT
BEGIN:STANDARD
TZOFFSETFROM:-0400
TZOFFSETTO:-0500
TZNAME:EST
DTSTART:20221106T060000
END:STANDARD
BEGIN:DAYLIGHT
TZOFFSETFROM:-0500
TZOFFSETTO:-0400
TZNAME:EDT
DTSTART:20230312T070000
END:DAYLIGHT
BEGIN:STANDARD
TZOFFSETFROM:-0400
TZOFFSETTO:-0500
TZNAME:EST
DTSTART:20231105T060000
END:STANDARD
BEGIN:DAYLIGHT
TZOFFSETFROM:-0500
TZOFFSETTO:-0400
TZNAME:EDT
DTSTART:20240310T070000
END:DAYLIGHT
BEGIN:STANDARD
TZOFFSETFROM:-0400
TZOFFSETTO:-0500
TZNAME:EST
DTSTART:20241103T060000
END:STANDARD
END:VTIMEZONE
BEGIN:VEVENT
DTSTART;TZID=America/New_York:20230120T193000
DTEND;TZID=America/New_York:20230120T203000
DTSTAMP:20260422T160612
CREATED:20221006T151113Z
LAST-MODIFIED:20230120T170416Z
UID:10000152-1674243000-1674246600@live-vso.pantheonsite.io
SUMMARY:Jukebox at Merchants Hall (18+)
DESCRIPTION:Tickets for this event are SOLD OUT \nJukebox presents an adults-only program that features music and composers that are scandalous\, depraved\, and decidedly adult – no kids allowed at this one! It’s a fun\, entertaining\, and slightly bawdy adults only show that’s got it all. We’re including Baroque masters such as Bach and Gesualdo\, a piece showcasing the other side of Mozart\, some folksy Percy Grainger that we hear in a new light…and a good helping of sex\, drugs and murder. You know\, it’s just like your typical chamber music concert. \nBrooke Quiggins Saulnier and Aleksandra Labinska\, violin\nStefanie Taylor\, viola\nJohn Dunlop\, cello\nMatt LaRocca\, curator and host \nExpect coarse language and adult themes 18+   \nThe performance will be at Merchants Hall in Rutland. Please note that this venue is BYOB. Doors open at 7pm. \nSingle tickets available on a sliding scale starting at $10. \n  \nThis concert is made possible by Kristi & Sandy Bragg in memory of Ann M. Bragg and the Northfield Savings Bank Innovation Fund
URL:https://live-vso.pantheonsite.io/vso-event/jukebox-at-merchantshall/
LOCATION:Merchants Hall\, 42 Merchants Row\, Rutland\, VT\, 05701\, United States
CATEGORIES:Jukebox
ATTACH;FMTTYPE=image/png:https://live-vso.pantheonsite.io/wp-content/uploads/2022/03/JUKEBOX.png
END:VEVENT
END:VCALENDAR