BEGIN:VCALENDAR
VERSION:2.0
PRODID:-//Vermont Symphony Orchestra - ECPv6.15.17.1//NONSGML v1.0//EN
CALSCALE:GREGORIAN
METHOD:PUBLISH
X-WR-CALNAME:Vermont Symphony Orchestra
X-ORIGINAL-URL:https://live-vso.pantheonsite.io
X-WR-CALDESC:Events for Vermont Symphony Orchestra
REFRESH-INTERVAL;VALUE=DURATION:PT1H
X-Robots-Tag:noindex
X-PUBLISHED-TTL:PT1H
BEGIN:VTIMEZONE
TZID:America/New_York
BEGIN:DAYLIGHT
TZOFFSETFROM:-0500
TZOFFSETTO:-0400
TZNAME:EDT
DTSTART:20220313T070000
END:DAYLIGHT
BEGIN:STANDARD
TZOFFSETFROM:-0400
TZOFFSETTO:-0500
TZNAME:EST
DTSTART:20221106T060000
END:STANDARD
BEGIN:DAYLIGHT
TZOFFSETFROM:-0500
TZOFFSETTO:-0400
TZNAME:EDT
DTSTART:20230312T070000
END:DAYLIGHT
BEGIN:STANDARD
TZOFFSETFROM:-0400
TZOFFSETTO:-0500
TZNAME:EST
DTSTART:20231105T060000
END:STANDARD
BEGIN:DAYLIGHT
TZOFFSETFROM:-0500
TZOFFSETTO:-0400
TZNAME:EDT
DTSTART:20240310T070000
END:DAYLIGHT
BEGIN:STANDARD
TZOFFSETFROM:-0400
TZOFFSETTO:-0500
TZNAME:EST
DTSTART:20241103T060000
END:STANDARD
END:VTIMEZONE
BEGIN:VEVENT
DTSTART;TZID=America/New_York:20231021T193000
DTEND;TZID=America/New_York:20231021T210000
DTSTAMP:20260422T040731
CREATED:20230506T232409Z
LAST-MODIFIED:20231005T194408Z
UID:10000121-1697916600-1697922000@live-vso.pantheonsite.io
SUMMARY:Jukebox: Color Theory - Roots Studio Space
DESCRIPTION:BUY TICKETS\n \n\n\n\nThe Jukebox fall series showcases the intersection between music and art with works inspired by vivid colors\, imagery\, and artwork. Over the duration of the concert\, the music will guide and inform a live painting experience with Haitian/Vermont artist Julio Desmont as he creates a new piece of artwork in real time. Curated and hosted by Matt LaRocca\, this concert features music by composers Jessie Montgomery\, Philip Glass\, Benjamin Britten\, Javier Alvarez\, and more. \n\nDesmont’s artistic journey begin in Haiti in his early childhood observing trogon birds and riding on Taptaps.  Later on\, he was inspired by Jean Michel Basquiat\, Wassily Kandinsky\, and Pablo Picasso whose inspirations went back to Africa – as well as the original American painter\, Georgia O’Keeffe.\n\n  \nThe Jukebox Quartet\n\n\nBrooke Quiggins-Saulnier and Ben Lively\, violin\nStefanie Taylor\, viola\nJohn Dunlop\, cello \n\nThis concert is produced in partnership with The Paramount Theatre and is generously sponsored in part by:    \nAnd made possible with the generous support of the Young Cultural Endowment Fund for Rutland\, and by Sandy and Kristi Bragg\, in memory of Ann Bragg.
URL:https://live-vso.pantheonsite.io/vso-event/jukebox-color-theory-roots-studio-space/
LOCATION:Roots Studio Space\, 55 Washington St\, Rutland\, VT\, 05701\, United States
CATEGORIES:Jukebox
ATTACH;FMTTYPE=image/jpeg:https://live-vso.pantheonsite.io/wp-content/uploads/2023/05/VSO-Tile-Jukebox-ColorTheory.jpg
END:VEVENT
END:VCALENDAR