BEGIN:VCALENDAR
VERSION:2.0
PRODID:-//Vermont Symphony Orchestra - ECPv6.15.17.1//NONSGML v1.0//EN
CALSCALE:GREGORIAN
METHOD:PUBLISH
X-WR-CALNAME:Vermont Symphony Orchestra
X-ORIGINAL-URL:https://live-vso.pantheonsite.io
X-WR-CALDESC:Events for Vermont Symphony Orchestra
REFRESH-INTERVAL;VALUE=DURATION:PT1H
X-Robots-Tag:noindex
X-PUBLISHED-TTL:PT1H
BEGIN:VTIMEZONE
TZID:America/New_York
BEGIN:DAYLIGHT
TZOFFSETFROM:-0500
TZOFFSETTO:-0400
TZNAME:EDT
DTSTART:20240310T070000
END:DAYLIGHT
BEGIN:STANDARD
TZOFFSETFROM:-0400
TZOFFSETTO:-0500
TZNAME:EST
DTSTART:20241103T060000
END:STANDARD
BEGIN:DAYLIGHT
TZOFFSETFROM:-0500
TZOFFSETTO:-0400
TZNAME:EDT
DTSTART:20250309T070000
END:DAYLIGHT
BEGIN:STANDARD
TZOFFSETFROM:-0400
TZOFFSETTO:-0500
TZNAME:EST
DTSTART:20251102T060000
END:STANDARD
BEGIN:DAYLIGHT
TZOFFSETFROM:-0500
TZOFFSETTO:-0400
TZNAME:EDT
DTSTART:20260308T070000
END:DAYLIGHT
BEGIN:STANDARD
TZOFFSETFROM:-0400
TZOFFSETTO:-0500
TZNAME:EST
DTSTART:20261101T060000
END:STANDARD
END:VTIMEZONE
BEGIN:VEVENT
DTSTART;TZID=America/New_York:20250405T190000
DTEND;TZID=America/New_York:20250405T200000
DTSTAMP:20260421T044609
CREATED:20240501T124625Z
LAST-MODIFIED:20250328T171347Z
UID:10000238-1743879600-1743883200@live-vso.pantheonsite.io
SUMMARY:Jukebox: Heavy Metal Strings - Brattleboro
DESCRIPTION:Buy Tickets \n  \nWe turn it up to 11 as the Jukebox quartet plugs in and goes electric for a rock and roll inspired show. We’ll rock out to classics by Van Halen\, Led Zeppelin\, Tool and others\, and also dig into rock-influenced and inspired music from the classical world – it doesn’t get any heavier than some Shostakovich! Hosted and curated by Matt LaRocca. \nBrooke Quiggins-Saulnier and Joana Genova\, violin\nStefanie Taylor\, viola\nJohn Dunlop\, cello \nDoors open at 6:30pm\, concert begins at 7:00pm. \nThis concert is produced in partnership with:
URL:https://live-vso.pantheonsite.io/vso-event/jukebox-heavy-metal-strings-brat/
LOCATION:Brattleboro Music Center\, 72 Blanche Moyes Way\, Brattleboro\, 05301\, United States
CATEGORIES:Jukebox
ATTACH;FMTTYPE=image/jpeg:https://live-vso.pantheonsite.io/wp-content/uploads/2023/02/JB-photo-shoot-feb4-22.jpg
END:VEVENT
END:VCALENDAR