BEGIN:VCALENDAR
VERSION:2.0
PRODID:-//Vermont Symphony Orchestra - ECPv6.15.17.1//NONSGML v1.0//EN
CALSCALE:GREGORIAN
METHOD:PUBLISH
X-ORIGINAL-URL:https://live-vso.pantheonsite.io
X-WR-CALDESC:Events for Vermont Symphony Orchestra
REFRESH-INTERVAL;VALUE=DURATION:PT1H
X-Robots-Tag:noindex
X-PUBLISHED-TTL:PT1H
BEGIN:VTIMEZONE
TZID:America/New_York
BEGIN:DAYLIGHT
TZOFFSETFROM:-0500
TZOFFSETTO:-0400
TZNAME:EDT
DTSTART:20240310T070000
END:DAYLIGHT
BEGIN:STANDARD
TZOFFSETFROM:-0400
TZOFFSETTO:-0500
TZNAME:EST
DTSTART:20241103T060000
END:STANDARD
BEGIN:DAYLIGHT
TZOFFSETFROM:-0500
TZOFFSETTO:-0400
TZNAME:EDT
DTSTART:20250309T070000
END:DAYLIGHT
BEGIN:STANDARD
TZOFFSETFROM:-0400
TZOFFSETTO:-0500
TZNAME:EST
DTSTART:20251102T060000
END:STANDARD
BEGIN:DAYLIGHT
TZOFFSETFROM:-0500
TZOFFSETTO:-0400
TZNAME:EDT
DTSTART:20260308T070000
END:DAYLIGHT
BEGIN:STANDARD
TZOFFSETFROM:-0400
TZOFFSETTO:-0500
TZNAME:EST
DTSTART:20261101T060000
END:STANDARD
END:VTIMEZONE
BEGIN:VEVENT
DTSTART;TZID=America/New_York:20250412T140000
DTEND;TZID=America/New_York:20250412T150000
DTSTAMP:20260421T044916
CREATED:20240501T211654Z
LAST-MODIFIED:20250124T180919Z
UID:10000241-1744466400-1744470000@live-vso.pantheonsite.io
SUMMARY:Jukebox: Heavy Metal Strings - Bennington
DESCRIPTION:We turn it up to 11 as the Jukebox quartet plugs in and goes electric for a rock and roll inspired show. We’ll rock out to classics by Van Halen\, Led Zeppelin\, Tool and others\, and also dig into rock-influenced and inspired music from the classical world – it doesn’t get any heavier than some Shostakovich! Hosted and curated by Matt LaRocca. \nBrooke Quiggins-Saulnier and Joana Genova\, violin\nStefanie Taylor\, viola\nJohn Dunlop\, cello \nDoors open at 1:30pm\, concert begins at 2:00pm. This concert is free\, courtesy of Bennington Museum as part of their Music at the Museum series.  \nThis concert is produced in partnership with Bennington Museum.
URL:https://live-vso.pantheonsite.io/vso-event/jukebox-heavy-metal-strings-bennington/
LOCATION:Bennington Museum\, 75 Main St\, Bennington\, 05201\, United States
CATEGORIES:Jukebox
ATTACH;FMTTYPE=image/jpeg:https://live-vso.pantheonsite.io/wp-content/uploads/2023/02/JB-photo-shoot-feb4-22.jpg
END:VEVENT
END:VCALENDAR