BEGIN:VCALENDAR
VERSION:2.0
PRODID:-//Vermont Symphony Orchestra - ECPv6.15.17.1//NONSGML v1.0//EN
CALSCALE:GREGORIAN
METHOD:PUBLISH
X-WR-CALNAME:Vermont Symphony Orchestra
X-ORIGINAL-URL:https://live-vso.pantheonsite.io
X-WR-CALDESC:Events for Vermont Symphony Orchestra
REFRESH-INTERVAL;VALUE=DURATION:PT1H
X-Robots-Tag:noindex
X-PUBLISHED-TTL:PT1H
BEGIN:VTIMEZONE
TZID:America/New_York
BEGIN:DAYLIGHT
TZOFFSETFROM:-0500
TZOFFSETTO:-0400
TZNAME:EDT
DTSTART:20230312T070000
END:DAYLIGHT
BEGIN:STANDARD
TZOFFSETFROM:-0400
TZOFFSETTO:-0500
TZNAME:EST
DTSTART:20231105T060000
END:STANDARD
BEGIN:DAYLIGHT
TZOFFSETFROM:-0500
TZOFFSETTO:-0400
TZNAME:EDT
DTSTART:20240310T070000
END:DAYLIGHT
BEGIN:STANDARD
TZOFFSETFROM:-0400
TZOFFSETTO:-0500
TZNAME:EST
DTSTART:20241103T060000
END:STANDARD
BEGIN:DAYLIGHT
TZOFFSETFROM:-0500
TZOFFSETTO:-0400
TZNAME:EDT
DTSTART:20250309T070000
END:DAYLIGHT
BEGIN:STANDARD
TZOFFSETFROM:-0400
TZOFFSETTO:-0500
TZNAME:EST
DTSTART:20251102T060000
END:STANDARD
END:VTIMEZONE
BEGIN:VEVENT
DTSTART;TZID=America/New_York:20240414T180000
DTEND;TZID=America/New_York:20240414T190000
DTSTAMP:20260420T014521
CREATED:20240219T190304Z
LAST-MODIFIED:20240329T181150Z
UID:10000204-1713117600-1713121200@live-vso.pantheonsite.io
SUMMARY:Jukebox: The Sound of Science in St. Johnsbury
DESCRIPTION:Buy Tickets \n  \nIn the Sound of Science\, Jukebox explores the intersection of music\, science and data. The evening features compositions inspired and informed by scientific principles. We marvel at the structure behind Bach’s counterpoint\, see how one composer translates the concept of the red-shift (the evidence behind the ever-expanding universe) into music\, and delve just a little bit into science fiction. In addition\, we see how data can be directly interpreted into music and sound. Temperature data is translated into musical notes in Daniel Crawfords brilliant Planetary Bands\, the sound of a glacier melting is the bedrock of Sophie Kastner’s new work\, data received from a buoy in Lake Champlain provides the director of a new piece by Vermont Composer Peter Hamlin\, and more! \nEach concert will include a free workshop where participants can create music and sound out of their own data through a free online tool developed by Kinetek. \nBrooke Quiggins Saulnier and Jane Kittredge\, violin\nStefanie Taylor\, viola\nJohn Dunlop\, cello\nMatt LaRocca\, host and curator \nMusic from:\nMark Mellits\nLarry Groupé\nJ.S. Bach\nAlexander Borodin\nSophie Kastner\nPeter Hamlin\nDaniel Crawford\nMatt LaRocca\nRadiohead \nThis concert in St. Johnsbury is generously supported by Community National Bank\, and is in partnership with Catamount Arts.
URL:https://live-vso.pantheonsite.io/vso-event/jukebox-the-sound-of-science-in-st-johnsbury/
LOCATION:Fairbanks Museum\, 1302 Main Street\, St. Johnsbury\, VT\, 05819\, United States
CATEGORIES:Jukebox
ATTACH;FMTTYPE=image/jpeg:https://live-vso.pantheonsite.io/wp-content/uploads/2023/05/VSO_JukeboxSci_1920x1080Alt.jpg
END:VEVENT
END:VCALENDAR