BEGIN:VCALENDAR
VERSION:2.0
PRODID:-//Vermont Symphony Orchestra - ECPv6.15.17.1//NONSGML v1.0//EN
CALSCALE:GREGORIAN
METHOD:PUBLISH
X-ORIGINAL-URL:https://live-vso.pantheonsite.io
X-WR-CALDESC:Events for Vermont Symphony Orchestra
REFRESH-INTERVAL;VALUE=DURATION:PT1H
X-Robots-Tag:noindex
X-PUBLISHED-TTL:PT1H
BEGIN:VTIMEZONE
TZID:America/New_York
BEGIN:DAYLIGHT
TZOFFSETFROM:-0500
TZOFFSETTO:-0400
TZNAME:EDT
DTSTART:20220313T070000
END:DAYLIGHT
BEGIN:STANDARD
TZOFFSETFROM:-0400
TZOFFSETTO:-0500
TZNAME:EST
DTSTART:20221106T060000
END:STANDARD
BEGIN:DAYLIGHT
TZOFFSETFROM:-0500
TZOFFSETTO:-0400
TZNAME:EDT
DTSTART:20230312T070000
END:DAYLIGHT
BEGIN:STANDARD
TZOFFSETFROM:-0400
TZOFFSETTO:-0500
TZNAME:EST
DTSTART:20231105T060000
END:STANDARD
BEGIN:DAYLIGHT
TZOFFSETFROM:-0500
TZOFFSETTO:-0400
TZNAME:EDT
DTSTART:20240310T070000
END:DAYLIGHT
BEGIN:STANDARD
TZOFFSETFROM:-0400
TZOFFSETTO:-0500
TZNAME:EST
DTSTART:20241103T060000
END:STANDARD
END:VTIMEZONE
BEGIN:VEVENT
DTSTART;TZID=America/New_York:20231124T190000
DTEND;TZID=America/New_York:20231124T210000
DTSTAMP:20260420T080238
CREATED:20230724T215138Z
LAST-MODIFIED:20230913T192821Z
UID:10000195-1700852400-1700859600@live-vso.pantheonsite.io
SUMMARY:Dionne Warwick Featuring VSO String Ensemble
DESCRIPTION:BUY TICKETS HERE \nJoin us for a special performance with Dionne Warwick featuring Vermont Symphony Orchestra String Ensemble. \nDionne Warwick is a five-time Grammy Award-winning music legend who has earned more than 75 charted hit songs and sold over 100 million records. She recorded 18 consecutive Top 100 singles (“Don’t Make Me Over\,” Walk on By\,” “Say a Little Prayer\,” “A House is Not a Home\,” “Alfie\,” “Heartbreaker\,” “Déjà Vu\,” among countless others). She received her first Grammy in 1968 for “Do You Know the Way to San Jose?” Ms. Warwick became the first African-American solo female artist of her generation to win the prestigious award for Best Contemporary Female Vocalist Performance. \nIn 1985\, she participated in the recording of “That’s What Friends Are For\,” which became a number-one hit worldwide and raised awareness and major funds for AIDS research\, which she continues to support\, among other causes such as The Starlight Foundation\, children’s hospitals\, world hunger\, disaster relief\, and music education for which she has been honored and has raised millions of dollars. Ms. Warwick also participated in the all-star charity single\, “We Are the World” and performed at “Live Aid.” \nMs. Warwick was also inducted into The Grammy Museum where a special 50th Anniversary career exhibit was unveiled and is a 2019 Grammy Lifetime Achievement Award recipient. Ms. Warwick released a star-studded duets album entitled\, Feels So Good\, featuring collaborations with some of today’s greatest artists. Recently\, Warwick was the recipient of the coveted and prestigious 2017 Marian Anderson Award for her career accomplishments and philanthropy. \nComplimentary vouchers are not valid for this performance. \nPresented in partnership with Graystone Promotions.
URL:https://live-vso.pantheonsite.io/vso-event/dionne-warwick-featuring-vso-string-ensemble-2/
LOCATION:Paramount Theatre\, 30 Center St\, Rutland\, VT\, 05701\, United States
CATEGORIES:Rutland
ATTACH;FMTTYPE=image/jpeg:https://live-vso.pantheonsite.io/wp-content/uploads/2023/07/dionnewarwick.jpg
END:VEVENT
END:VCALENDAR