BEGIN:VCALENDAR
VERSION:2.0
PRODID:-//Vermont Symphony Orchestra - ECPv6.15.17.1//NONSGML v1.0//EN
CALSCALE:GREGORIAN
METHOD:PUBLISH
X-ORIGINAL-URL:https://live-vso.pantheonsite.io
X-WR-CALDESC:Events for Vermont Symphony Orchestra
REFRESH-INTERVAL;VALUE=DURATION:PT1H
X-Robots-Tag:noindex
X-PUBLISHED-TTL:PT1H
BEGIN:VTIMEZONE
TZID:America/New_York
BEGIN:DAYLIGHT
TZOFFSETFROM:-0500
TZOFFSETTO:-0400
TZNAME:EDT
DTSTART:20220313T070000
END:DAYLIGHT
BEGIN:STANDARD
TZOFFSETFROM:-0400
TZOFFSETTO:-0500
TZNAME:EST
DTSTART:20221106T060000
END:STANDARD
BEGIN:DAYLIGHT
TZOFFSETFROM:-0500
TZOFFSETTO:-0400
TZNAME:EDT
DTSTART:20230312T070000
END:DAYLIGHT
BEGIN:STANDARD
TZOFFSETFROM:-0400
TZOFFSETTO:-0500
TZNAME:EST
DTSTART:20231105T060000
END:STANDARD
BEGIN:DAYLIGHT
TZOFFSETFROM:-0500
TZOFFSETTO:-0400
TZNAME:EDT
DTSTART:20240310T070000
END:DAYLIGHT
BEGIN:STANDARD
TZOFFSETFROM:-0400
TZOFFSETTO:-0500
TZNAME:EST
DTSTART:20241103T060000
END:STANDARD
END:VTIMEZONE
BEGIN:VEVENT
DTSTART;TZID=America/New_York:20231214T193000
DTEND;TZID=America/New_York:20231214T213000
DTSTAMP:20260421T001702
CREATED:20230506T232119Z
LAST-MODIFIED:20231213T141356Z
UID:10000183-1702582200-1702589400@live-vso.pantheonsite.io
SUMMARY:Brass Quintet and Counterpoint - Warren
DESCRIPTION:THIS EVENT IS SOLD OUT. \nIn 2023\, one of our favorite annual holiday offerings tours to Warren\, Newport\, Grafton\, and Manchester for programs of music and cheer. Each VSO Brass Quintet and Counterpoint concert features a perfect blend of brass and voices with seasonal fun. The program includes two world premieres: “The Christmas Truce” for chorus by Saxtons River-based composer Carol Wood\, based on the WW1 Christmas ceasefires\, and a brass composition by Leela McCann\, a U-32 School District and Music-COMP student (Music Composition Mentoring Program). The concert is rounded out by enchanting traditional carols\, timeless arrangements by Robert De Cormier (the founder of Counterpoint and the VSO Chorus)\, compositions by Bach\, Gabrieli\, and Farnaby\, and fun holiday tunes such as “Frosty the Snowman” and “Santa Baby”. Don’t miss out on this musical treat\, conducted by Nathaniel G. Lew. \nVSO Brass Quintet\nHannah Messenger\, horn\nSeelan Manickam and Ryan Noe\, trumpet\nMatthew Wright\, trombone\nPhilip Hyman\, tuba \nCounterpoint\nColleen Flynn Campbell\, Neil Cerutti\, Melissa Chesnut-Tangerman\, Brian Clancy\, Scott Czerwinski\, Carolyn Dickinson\, Anne D’Olivo\, Maria Weber Lamson\, Zebulun McLellan\, Kevin Quigley\, Linda Radtke\, Allison Devery Steinmetz\, Cameron Steinmetz \nAdmission is free but you must reserve a ticket to hold your spot. \nFor accessibility information at this venue\, please contact VSO’s Manager of Audience Experience\, Grace Spain\, at grace@vso.org or phone 802-864-5741\, ext. 110. \nThe student premiere is in partnership with: \n \n 
URL:https://live-vso.pantheonsite.io/vso-event/brass-quintet-and-counterpoint-warren/
LOCATION:Warren United Church\, 339 Main Street\, Warren\, VT\, 05674\, United States
CATEGORIES:Holiday,Brass Quintet
ATTACH;FMTTYPE=image/jpeg:https://live-vso.pantheonsite.io/wp-content/uploads/2023/05/VSO-Tile-BrassQuintet.jpg
END:VEVENT
END:VCALENDAR