BEGIN:VCALENDAR
VERSION:2.0
PRODID:-//Vermont Symphony Orchestra - ECPv6.15.17.1//NONSGML v1.0//EN
CALSCALE:GREGORIAN
METHOD:PUBLISH
X-WR-CALNAME:Vermont Symphony Orchestra
X-ORIGINAL-URL:https://live-vso.pantheonsite.io
X-WR-CALDESC:Events for Vermont Symphony Orchestra
REFRESH-INTERVAL;VALUE=DURATION:PT1H
X-Robots-Tag:noindex
X-PUBLISHED-TTL:PT1H
BEGIN:VTIMEZONE
TZID:America/New_York
BEGIN:DAYLIGHT
TZOFFSETFROM:-0500
TZOFFSETTO:-0400
TZNAME:EDT
DTSTART:20210314T070000
END:DAYLIGHT
BEGIN:STANDARD
TZOFFSETFROM:-0400
TZOFFSETTO:-0500
TZNAME:EST
DTSTART:20211107T060000
END:STANDARD
BEGIN:DAYLIGHT
TZOFFSETFROM:-0500
TZOFFSETTO:-0400
TZNAME:EDT
DTSTART:20220313T070000
END:DAYLIGHT
BEGIN:STANDARD
TZOFFSETFROM:-0400
TZOFFSETTO:-0500
TZNAME:EST
DTSTART:20221106T060000
END:STANDARD
BEGIN:DAYLIGHT
TZOFFSETFROM:-0500
TZOFFSETTO:-0400
TZNAME:EDT
DTSTART:20230312T070000
END:DAYLIGHT
BEGIN:STANDARD
TZOFFSETFROM:-0400
TZOFFSETTO:-0500
TZNAME:EST
DTSTART:20231105T060000
END:STANDARD
END:VTIMEZONE
BEGIN:VEVENT
DTSTART;TZID=America/New_York:20221215T193000
DTEND;TZID=America/New_York:20221215T213000
DTSTAMP:20260421T180906
CREATED:20221006T145703Z
LAST-MODIFIED:20221115T165811Z
UID:10000148-1671132600-1671139800@live-vso.pantheonsite.io
SUMMARY:Brass Quintet & Counterpoint at Warren United Church
DESCRIPTION:Get Tickets Here \nIn 2022\, one of our favorite annual holiday offerings tours to Woodstock\, Warren\, Newport\, Grafton\, and Manchester for programs of music and cheer. Each Brass Quintet & Counterpoint concert features a perfect blend of brass and voices alongside the premiere of a Music-COMP student composition. Don’t miss out on this seasonal treat\, conducted by Nathaniel G. Lew. \nTickets for this event are free\, but registration is required. \nProgram: \nDe Cormier\, arr.  – Joy to the World *\nSpeer –  Sonata from Die Bankelsängerlieder +\nPrice – Adoration +\nEnglish Folk Tune\, arr. Gale – What Child is This +\nRichard Price\, arr. – Sussex Carol +\nGwyneth Walker – The Christ-child’s Lullaby ^\nMolly Caffry – If Fire Danced with Fire ^\nSara Doncaster\, arr. – Apple Tree Wassail ^\nLili Boulanger\, arr. Nathaniel G. Lew – Psalm 24 * \nINTERMISSION \nBerlin – White Christmas *\nMichael John Trotta – Veni Emmanuel ^\nFoley – There is No Rose ^\nMarks\, arr. Frackenpohl – Rudolph +\nGuaraldi – Christmas Time is Here from “A Charlie Brown Christmas” +\nHague\, arr. Bjornes\, – You’re a Mean One\, Mr. Grinch +\nTraditional\, arr. Nathaniel G. Lew – Angels We Have Heard on High * \n+ Brass Quintet piece\n^ Counterpoint piece\n* Joint Brass Quintet & Counterpoint piece
URL:https://live-vso.pantheonsite.io/vso-event/brass-quintet-counterpoint-at-warren-united-church/
LOCATION:Warren United Church\, 339 Main Street\, Warren\, VT\, 05674\, United States
CATEGORIES:Brass Quintet
ATTACH;FMTTYPE=image/png:https://live-vso.pantheonsite.io/wp-content/uploads/2022/03/BRASS-QUINTET-1-1.png
END:VEVENT
END:VCALENDAR