BEGIN:VCALENDAR
VERSION:2.0
PRODID:-//Vermont Symphony Orchestra - ECPv6.15.17.1//NONSGML v1.0//EN
CALSCALE:GREGORIAN
METHOD:PUBLISH
X-ORIGINAL-URL:https://live-vso.pantheonsite.io
X-WR-CALDESC:Events for Vermont Symphony Orchestra
REFRESH-INTERVAL;VALUE=DURATION:PT1H
X-Robots-Tag:noindex
X-PUBLISHED-TTL:PT1H
BEGIN:VTIMEZONE
TZID:America/New_York
BEGIN:DAYLIGHT
TZOFFSETFROM:-0500
TZOFFSETTO:-0400
TZNAME:EDT
DTSTART:20220313T070000
END:DAYLIGHT
BEGIN:STANDARD
TZOFFSETFROM:-0400
TZOFFSETTO:-0500
TZNAME:EST
DTSTART:20221106T060000
END:STANDARD
BEGIN:DAYLIGHT
TZOFFSETFROM:-0500
TZOFFSETTO:-0400
TZNAME:EDT
DTSTART:20230312T070000
END:DAYLIGHT
BEGIN:STANDARD
TZOFFSETFROM:-0400
TZOFFSETTO:-0500
TZNAME:EST
DTSTART:20231105T060000
END:STANDARD
BEGIN:DAYLIGHT
TZOFFSETFROM:-0500
TZOFFSETTO:-0400
TZNAME:EDT
DTSTART:20240310T070000
END:DAYLIGHT
BEGIN:STANDARD
TZOFFSETFROM:-0400
TZOFFSETTO:-0500
TZNAME:EST
DTSTART:20241103T060000
END:STANDARD
BEGIN:DAYLIGHT
TZOFFSETFROM:-0500
TZOFFSETTO:-0400
TZNAME:EDT
DTSTART:20250309T070000
END:DAYLIGHT
BEGIN:STANDARD
TZOFFSETFROM:-0400
TZOFFSETTO:-0500
TZNAME:EST
DTSTART:20251102T060000
END:STANDARD
BEGIN:DAYLIGHT
TZOFFSETFROM:-0500
TZOFFSETTO:-0400
TZNAME:EDT
DTSTART:20260308T070000
END:DAYLIGHT
BEGIN:STANDARD
TZOFFSETFROM:-0400
TZOFFSETTO:-0500
TZNAME:EST
DTSTART:20261101T060000
END:STANDARD
BEGIN:DAYLIGHT
TZOFFSETFROM:-0500
TZOFFSETTO:-0400
TZNAME:EDT
DTSTART:20270314T070000
END:DAYLIGHT
BEGIN:STANDARD
TZOFFSETFROM:-0400
TZOFFSETTO:-0500
TZNAME:EST
DTSTART:20271107T060000
END:STANDARD
END:VTIMEZONE
BEGIN:VEVENT
DTSTART;TZID=America/New_York:20260211T193000
DTEND;TZID=America/New_York:20260211T210000
DTSTAMP:20260421T045103
CREATED:20250512T133752Z
LAST-MODIFIED:20260106T203604Z
UID:10000301-1770838200-1770843600@live-vso.pantheonsite.io
SUMMARY:David M. Wilson Farmers' Night with the VSO Chorus
DESCRIPTION:The annual free community concert this season features selections from Mozart’s Symphony No. 1 in E-flat Major\, Debussy’s Gymnopedies\, Ravel’s Bolero\, and Frostiana\, a setting of Robert Frost’s poems in a seven-movement suite of choral art songs with chamber orchestra by Randall Thompson. The evening also features the VSO Chorus\, a composition by Music-COMP student\, Louis Napolitan\, and is conducted by VSO Music Director Andrew Crust. \nDoors are at 7:00pm\, concert begins at 7:30pm. \nWe are thankful for funds held at Maple Capital Management: the David M. Wilson Memorial Fund which supports this annual event\, and the Robert De Cormier Endowed Fund for its underwriting of the VSO Chorus in this concert\, as well as generous donors Theodore Marcy & Kimberly Hornung-Marcy. \nThis concert is also supported by Courtyard Marriott Burlington Harbor.
URL:https://live-vso.pantheonsite.io/vso-event/david-m-wilson-farmers-night-with-vsochorus-2026/
LOCATION:House Chambers\, The State House\, 115 State St\, Montpelier\, VT\, 05633\, United States
CATEGORIES:Farmers Night
ATTACH;FMTTYPE=image/png:https://live-vso.pantheonsite.io/wp-content/uploads/2025/04/fn1920x1080.png
END:VEVENT
BEGIN:VEVENT
DTSTART;TZID=America/New_York:20250212T193000
DTEND;TZID=America/New_York:20250212T210000
DTSTAMP:20260421T045103
CREATED:20240501T124542Z
LAST-MODIFIED:20250204T200313Z
UID:10000233-1739388600-1739394000@live-vso.pantheonsite.io
SUMMARY:David M. Wilson Farmers' Night with Damascus Kafumbe
DESCRIPTION:Now in its 90th anniversary season\, the Vermont Symphony Orchestra returns to the state capital for its annual Farmers’ Night event. Music Director Andrew Crust and VSO’s chamber orchestra present Bach’s Orchestral Suite No. 1 in C Major in a concert with guest artist Damascus Kafumbe. The evening features Bach’s suite interwoven with percussion and string instrument performances by Kafumbe\, Middlebury College’s Professor of International Studies\, Professor of Music\, and Director of Middlebury African Music and Dance Ensemble. VSO’s Farmers’ Night traditions include the premiere of a Music-COMP student composition; for 2025\, the student is Mount Mansfield UHS senior Eleanor Freebern.  \nThis concert is free and open to the public; no tickets required. \nDoors are at 7:00pm\, concert begins at 7:30pm. \nThis concert is generously supported by the David M. Wilson Memorial Endowment Fund\, the National Endowment for the Arts\, Maple Capital Management\, TD Bank Foundation\, and MMR LLC. \n                \n        
URL:https://live-vso.pantheonsite.io/vso-event/david-m-wilson-farmers-night-with-damascus-kafumbe/
LOCATION:House Chambers\, The State House\, 115 State St\, Montpelier\, VT\, 05633\, United States
CATEGORIES:Farmers Night
ATTACH;FMTTYPE=image/png:https://live-vso.pantheonsite.io/wp-content/uploads/2024/05/fnfeb.png
END:VEVENT
BEGIN:VEVENT
DTSTART;TZID=America/New_York:20230201T193000
DTEND;TZID=America/New_York:20230201T213000
DTSTAMP:20260421T045103
CREATED:20221006T153617Z
LAST-MODIFIED:20230123T213931Z
UID:10000155-1675279800-1675287000@live-vso.pantheonsite.io
SUMMARY:David M. Wilson Memorial Farmers Night Concert at the State House
DESCRIPTION:This annual\, free favorite at the State House returns after three years’ absence due to the pandemic. The 2023 David. M Wilson Memorial Farmers’ Night Concert is conducted by Director of Orchestra and Associate Professor of Music at the University of Vermont\, Dr. Yutaka Kono. Music includes Rossini’s La Scala di Seta Overture\, Francis Johnson’s Cotillions\, Lauren Bernofsky’s Abendstern\, Haydn’s Symphony No. 8\, “Le Soir” and a piece by West Rutland High School graduate Drew Frankenberg via Music-COMP. \nTicketing/registration is not required for this open-to-the-public performance. \nThis concert is made possible through funding support from the David M Wilson Memorial Fund\, and the State of Vermont.
URL:https://live-vso.pantheonsite.io/vso-event/david-m-wilson-memorial-farmers-night-concert-at-the-state-house/
LOCATION:House Chambers\, The State House\, 115 State St\, Montpelier\, VT\, 05633\, United States
CATEGORIES:Farmers Night
ATTACH;FMTTYPE=image/png:https://live-vso.pantheonsite.io/wp-content/uploads/2022/03/FARMERS-NIGHT.png
END:VEVENT
END:VCALENDAR